Workbook

Sheet Instructions
A1: Evanston Faculty Slary Plan Worksheet
A4: (A) PI has single appointment
B6: (1) Complete the Appt 1 tab. Enter the effort percentages into the (yellow section) on Appt 1 worksheet.
B7: Use the drop down menu in column C (yellow section) to indicate whether the grant is from NIH or not
B8: Confirm effort on the Appt 1 worksheet (dark blue section).
B9: Enter the auto-calculated percentages on the Appt 1 worksheet (light blue section) in myHR.
B11: Note: If the NIH salary cap is applicable you will need to use the drop down menu in column C.
A13: (B) PI has multiple appointments
B15: (1) Complete the Academic Base Salary Calculation tab. Column H (highlighted in green) will auto-populate the Multiple Appointment Calculation tab.
B17: (2) Complete yellow section of Multiple Appointment Calculation tab. Enter chart strings in column C and effort percentages in column E.
B18: Total % effort in cell E36 must match figure in cell E15.
B20: (3) Complete the Appt 1 tab. Enter the effort percentages from column G (highlighted in green) on the Multiple Appointment calculation worksheet into the (yellow section) on Appt 1 worksheet.
B21: Use the drop down menu in column C (yellow section) to indicate whether the grant is from NIH or not
B22: Confirm effort on the Appt 1 worksheet (dark blue section).
B23: Enter the auto-calculated percentages on the Appt 1 worksheet (light blue section) in myHR.
B24: Confirm effort for both appointments on the Combined Effort tab.
B26: Note: If the NIH salary cap is applicable you will need to use the drop down menu in column C.
A28: (C) PI is charging more than 75% salary to sponsored projects
B30: (1) Use the SDA form on the Payroll web site. Contact Budget for approval to use the SDA form to ensure your PI is still eligible for the fringe incentive.
A33: Contacts for assistance with this spreadsheet:
B34: Deb Cundiff (McCormick) | E34: deb@northwestern.edu
B35: Reid Wellensiek (WCAS) | E35: m-wellensiek@northwestern.edu

Sheet Academic Base Salary Calc
A1: 9-MONTH ACADEMIC & SUMMER SALARY CONSIDERATIONS FOR FACULTY WITH BOTH 9 AND 12 MONTH APPOINTMENTS - WORKSHEET
A2: * Enter/update data in the fields highlighted in Yellow and review the updated calculations | G2: CONFIDENTIAL
A4: Employee Name: | E4: Entered by: | G4: =TODAY() -> 46293
A5: Employee Id: | E5: Fiscal Year: | F5: 2027
A7: Instruction: Update the entries in the yellow fields (maximum 3 appointments). Annual salary is entered per appointment. Monthly rate, summer months, and 9-month base salary will be automatically updated by the worksheet.
A8: RCD | B8: Annual Salary | C8: Appt | D8: Monthly Earned Rate | E8: % Distribution | F8: Summer Monthly Rate per Appointment | G8: Note | H8: 9 Mo. Academic Salary per Appt.
A9: 0 | C9: 9 | D9: =B9/C9 -> 0 | E9: =D9/D12 -> #DIV/0! | F9: =IF(C9=9,D9,0) -> 0 | G9: =IF(B9= "","",IF(C9=9,CONCATENATE(ROUND(E9,4)*100,"% eligible for requesting summer salary"),CONCATENATE(ROUND(E9,4)*100, "% not eligible for summer salary"))) | H9: =D9*9 -> 0
A10: 1 | C10: 9 | D10: =IF(C10="","",B10/C10) -> 0 | E10: =IF(C10="","",D10/D12) -> #DIV/0! | F10: =IF(C10=9,D10,0) -> 0 | G10: =IF(B10= "","",IF(C10=9,CONCATENATE(ROUND(E10,4)*100,"% eligible for requesting summer salary"),CONCATENATE(ROUND(E10,4)*100, "% not eligible for summer salary"))) | H10: =D10*9 -> 0
A11: 2 | B11: 0 | C11: 12 | D11: =IF(C11=0,0,B11/C11) -> 0 | E11: =IF(B11=0,0,D11/D12) -> 0 | F11: =IF(C11=9,D11,0) -> 0 | G11: =IF(B11= "","",IF(C11=9,CONCATENATE(ROUND(E11,4)*100,"% eligible for requesting summer salary"),CONCATENATE(ROUND(E11,4)*100, "% not eligible for summer salary"))) -> 0% not eligible for summer salary | H11: =D11*9 -> 0
A12: TL | B12: =SUM(B9:B11) -> 0 | D12: =SUM(D9:D11) -> 0 | E12: =SUM(E9:E11) -> #DIV/0! | F12: =SUM(F9:F11) -> 0 | G12: =CONCATENATE("TOTAL: ", E12*100, "%") -> #DIV/0! | H12: =SUM(H9:H11) -> 0
B14: Monthly Salary Rate: | D14: =D12 -> 0
B15: Institutional Base Salary (IBS): | D15: =B9+B10+B11 -> 0 | G15: =IF(C10=9,"",IF(C10=12,"",IF(C10=0,"","*Error: Appt 2 can only be 9 or 12 months")))
B16: Academic Base Salary (9-month Academic Year Salary shown in Effort Reporting): | D16: =IF(D12=0,0,D12*9) -> 0 | E16: -> 9-month Base Salary for proposal submission if having at least one 9-month appointment
B17: 12-month (Annual) NIH Salary Cap | D17: 221900 | F17: Over the NIH Salary Cap? | G17: =IF(D16>D18,"Yes","No") -> No
B18: 9-month NIH Salary Cap | D18: =D17/12*9 -> 166425
E20: =IF(D16>D18,"-> This NIH Salary Cap should be used for Salary Request if the awarding agency is NIH","")
A22: SUMMER SALARY CALCULATION
B24: Total Summer Salary Charges during Summer/Research Qtr. | E24: Maximal Pay | F24: Reference
B25: Maximal Summer Pay Allowed on the Summer Salary Form | E25: =F12*3 -> 0 | F25: Total Summer pay (on summer salary form) from spon & non-spon funds can not exceed this threshold. In addition, please adhere to the NU policy regarding the 2.5 maximal summer months charges on sponsored projects: www.research.northwestern.edu/policies/summer-research-quarter.html.
A27: BASE SALARY DISPLAYED ON NU EFFORT FORMS
B29: Evanston Qtrs | D29: Q1 (9/16 - 11/30) | E29: Q2 (12/01 - 02/28) | F29: Q3 (03/01 - 06/15) | G29: Q4 (06/16 - 09/15)
B30: # of Months | D30: 2.5 | E30: 3 | F30: 3.5
B31: Base Salary | D31: =$D$12*D30 -> 0 | E31: =$D$12*E30 -> 0 | F31: =$D$12*F30 -> 0
B33: Chicago Qtrs | D33: Q1 (9/01 - 11/30) | E33: Q2 (12/01 - 02/28) | F33: Q3 (03/01 - 05/31) | G33: Q4 (06/01 - 08/31) / Research Qtr
B34: # of Months | D34: 3 | E34: 3 | F34: 3
B35: Base Salary | D35: =$D$12*D34 -> 0 | E35: =$D$12*E34 -> 0 | F35: =$D$12*F34 -> 0
A36: Notes:
A37: * | B37: This worksheet serves only as a tool to calculate salary rates. It does not replace any NU or school's policies and business practices.
A38: ** | B38: For NU administrative appointments such as dean, chair, or division chief, the salary typically cannot be charged to sponsored projects during the contracted period.
A39: *** | B39: This worksheet is for 9 and 12 months appointments only. 10 and 11 month appointments require additional considerations. Please contact Jennifer Mitchell if you need assistance for 10 or 11 months appointments or if you have questions about this worksheet.

Sheet Multiple Appt Calc
A1: Effort Allocation for Multiple Appointments
A2: If the employee has more than one appointment, fill out this sheet and use the converted percentages (columns highlighted in green) in Salary Planning Sheet 1 and 2 .
A3: I. Enter data in the fields highlighted in Yellow; all other fields are calculated by the worksheet.
A4: % | C4: 9-Month Salary
A5: =ROUND((C5/C8),4) -> #DIV/0! | B5: Appt 1 (Faculty): | C5: ='Academic Base Salary Calc'!H9 -> 0
A6: =ROUND((C6/C8),4) -> #DIV/0! | B6: Appt 2: | C6: ='Academic Base Salary Calc'!H10 -> 0 | E6: Auto-populates from ABS calculation worksheet
A7: =C7/C8 -> #DIV/0! | B7: Appt 3: | C7: ='Academic Base Salary Calc'!H11 -> 0
B8: Total Academic Base Salary | C8: =SUM(C5:C7) -> 0
A10: Appointment 1: | J10: Appointment 2:
A11: 1. Enter the effort percentages in columns highlighted in Yellow. | J11: 1. Enter the effort percentages in columns highlighted in Yellow.
A12: 2. Use the converted percentages (highlighted in green) in Salary Planning Sheet 1 | J12: 2. Use the converted percentages (highlighted in purple) in Salary Planning Sheet 2
C14: Chartstring | E14: % | G14: Funding | L14: Chartstring | N14: % | P14: Funding
E15: =A5 -> #DIV/0! | F15: -> TO -> | G15: 1 | N15: =A6 -> #DIV/0! | O15: -> TO -> | P15: 1 | R15: total | S15: =E15+N15 -> #DIV/0!
A16: Sponsored : | J16: Sponsored :
B17: Sponsored Acct 1: | G17: =E17/$E$15 -> #DIV/0! | K17: Sponsored Acct 1: | P17: =N17/$N$15 -> #DIV/0!
B18: Sponsored Acct 2: | G18: =E18/$E$15 -> #DIV/0! | K18: Sponsored Acct 2: | P18: =N18/$N$15 -> #DIV/0!
B19: Sponsored Acct 3: | G19: =E19/$E$15 -> #DIV/0! | K19: Sponsored Acct 3: | P19: =N19/$N$15 -> #DIV/0!
B20: Sponsored Acct 4: | G20: =E20/$E$15 -> #DIV/0! | K20: Sponsored Acct 4: | P20: =N20/$N$15 -> #DIV/0!
B21: Sponsored Acct 5: | G21: =E21/$E$15 -> #DIV/0! | K21: Sponsored Acct 5: | P21: =N21/$N$15 -> #DIV/0!
B22: Sponsored Acct 6: | G22: =E22/$E$15 -> #DIV/0! | K22: Sponsored Acct 6: | P22: =N22/$N$15 -> #DIV/0!
B23: Sponsored Acct 7: | G23: =E23/$E$15 -> #DIV/0! | K23: Sponsored Acct 7: | P23: =N23/$N$15 -> #DIV/0!
B24: Sponsored Acct 8: | G24: =E24/$E$15 -> #DIV/0! | K24: Sponsored Acct 8: | P24: =N24/$N$15 -> #DIV/0!
B25: Sponsored Acct 9: | G25: =E25/$E$15 -> #DIV/0! | K25: Sponsored Acct 9: | P25: =N25/$N$15 -> #DIV/0!
B26: Sponsored Acct 10: | G26: =E26/$E$15 -> #DIV/0! | K26: Sponsored Acct 10: | P26: =N26/$N$15 -> #DIV/0!
A27: MCS/VCCS: | J27: MCS/VCCS:
B28: Companion CS Acct 1: | G28: =E28/$E$15 -> #DIV/0! | K28: Companion CS Acct 1: | P28: =N28/$N$15 -> #DIV/0!
B29: Companion CS Acct 2: | G29: =E29/$E$15 -> #DIV/0! | K29: Companion CS Acct 2: | P29: =N29/$N$15 -> #DIV/0!
B30: Companion CS Acct 3: | G30: =E30/$E$15 -> #DIV/0! | K30: Companion CS Acct 3: | P30: =N30/$N$15 -> #DIV/0!
A31: Operating budget Eff %: | J31: Operating budget Eff %:
B32: Faculty Salary Acct: | G32: =E32/$E$15 -> #DIV/0! | K32: Faculty Salary Acct: | P32: =N32/$N$15 -> #DIV/0!
B33: Operating Acct 2: | G33: =E33/$E$15 -> #DIV/0! | K33: Operating Acct 2: | P33: =N33/$N$15 -> #DIV/0!
B34: Operating Acct 3: | G34: =E34/$E$15 -> #DIV/0! | K34: Operating Acct 3: | P34: =N34/$N$15 -> #DIV/0!
C36: Total: | E36: =SUM(E17:E34) -> 0 | G36: =SUM(G17:G34) -> #DIV/0! | L36: Total: | N36: =SUM(N17:N34) -> 0 | P36: =SUM(P17:P34) -> #DIV/0!
E38: =IF(E15=E36,"","ERROR - total % (E36) should match total at top (E15)") -> #DIV/0! | N38: =IF(N15=N36,"","ERROR - total % (N36) should match total at top (N15)") -> #DIV/0!

Sheet Appt 1
A1: DIRECT CHARGING TEMPLATE FOR 9-MONTH EVANSTON FACULTY
A2: *Note: this sheet should only be used for faculty with commitments no more than 75%. If the faculty member's commitment is more than 75%, SDA should be used instead.
A3: I. Enter data in the fields highlighted in Yellow; all other fields are calculated by the worksheet. | L3: Revision: | M3: FY27 | N3: Date: | O3: 46267 | P3: By: | Q3: dlc
A5: I. | B5: Salary& Appointment | D5: Faculty Name: | J5: 9-Month Salary**
B6: Profile: | D6: Employee ID: | I6: Appt 1 (Faculty): | K6: Faculty Appointment
D7: myHR Position #: | I7: Appt 2: | K7: Excluding the 3 summer months if 12 mo appt.
D8: Home Dept: | I8: Appt 3: | K8: Excluding the 3 summer months if 12 mo appt.
B10: Appointment #1 | D10: # of Months Contract Employment Period | E10: 9
D11: Executive Level I Cap | K11: Note: Cap updated effective January
D12: Academic Base Salary (J6+J7+J8) | E12: =J6+J7+J8 -> 0 | K12: Academic Base Salary (J6+J7+J8) | N12: =J6+J7+J8 -> 0
D13: NIH Salary Cap (12 months): | E13: 228000 | K13: NIH Salary Cap (12 months): | N13: 228000
D14: NIH Salary Cap (9 months): | E14: =E13/12*E10 -> 171000 | G14: *NIH Cap Monthly Rate: | H14: =E13/12 -> 19000 | K14: NIH Salary Cap (9 months): | N14: =N13/12*E10 -> 171000 | P14: *NIH Cap Monthly Rate: | Q14: =N13/12 -> 19000
D15: Calculations: | G15: Salary Over the Cap: | H15: =IF(E12>E14, "YES","NO") -> NO | K15: Calculations: | P15: Salary Over the Cap: | Q15: =IF(N12>N14, "YES","NO") -> NO
D16: Monthly salary (earned rate) | E16: =E12/E10 -> 0 | G16: =E16*2 -> 0 | K16: Monthly salary (earned rate) | N16: =N12/E10 -> 0
D17: Monthly Salary Based on Appointment 1 only: | E17: =J6/E10 -> 0 | K17: Monthly Salary Based on Appointment 1 only: | N17: =J6/E10 -> 0
D18: Monthly "Earned" amounts applied to NIH: | E18: =IF(E14>E12,E17,H14) -> 0 | K18: Monthly "Earned" amounts applied to NIH: | N18: =IF(N14>N12,N17,Q14) -> 0
D19: Appointment 1 NIH cap portion | E19: =IF(E16=0,"",(E17/E16)*E18) | K19: Appointment 1 NIH cap portion | N19: =IF(N16=0,"",(N17/N16)*N18)
D20: Over the Cap Cost per Month | E20: =IF(E17>E18, E17-E18,0) -> 0 | K20: Over the Cap Cost per Month | N20: =IF(N17>N18, N17-N18,0) -> 0
D21: Monthly Pay Rate (12 months) Appt. 1 only | E21: =J6/12 -> 0 | K21: Monthly Pay Rate (12 months) Appt. 1 only | N21: =J6/12 -> 0
A23: II. | B23: Effort Distribution
B24: Percent Effort and Accounts Charged by Month: | E24: Sept 16 - 30 | F24: October | G24: November | H24: December | I24: January | J24: February | K24: March | L24: April | M24: May | N24: June 1 - 15 | O24: June 16-30 | P24: July | Q24: August | R24: September 1-15
B25: Sponsored : | E25: 2026 | F25: 2026 | G25: 2026 | H25: 2026 | I25: 2027 | J25: 2027 | K25: 2027 | L25: 2027 | M25: 2027 | N25: 2027 | O25: 2027 | P25: 2027 | Q25: 2027 | R25: 2027
C26: NIH?
C27: Yes
A37: Operating budget Eff %:
B38: Faculty Salary Acct: | E38: =100-E27-E28-E29-E30-E31-E32-E33-E34-E35-E36 -> 100 | F38: =100-F27-F28-F29-F30-F31-F32-F33-F34-F35-F36 -> 100 | G38: =100-G27-G28-G29-G30-G31-G32-G33-G34-G35-G36 -> 100 | H38: =100-H27-H28-H29-H30-H31-H32-H33-H34-H35-H36 -> 100 | I38: =100-I27-I28-I29-I30-I31-I32-I33-I34-I35-I36 -> 100 | J38: =100-J27-J28-J29-J30-J31-J32-J33-J34-J35-J36 -> 100 | K38: =100-K27-K28-K29-K30-K31-K32-K33-K34-K35-K36 -> 100 | L38: =100-L27-L28-L29-L30-L31-L32-L33-L34-L35-L36 -> 100 | ... N38: =100-N27-N28-N29-N30-N31-N32-N33-N34-N35-N36 -> 100 | O38: 100 | P38: 100 | Q38: 100 | R38: 100 | S38: 85
B39: Operating Acct 2:
B40: Operating Acct 3:
D41: Total Monthly Effort (self-check: Must = 100%) | E41: =SUM(E27:E40) -> 100 | F41: =SUM(F27:F40) -> 100 | G41: =SUM(G27:G40) -> 100 | H41: =SUM(H27:H40) -> 100 | I41: =SUM(I27:I40) -> 100 | J41: =SUM(J27:J40) -> 100 | K41: =SUM(K27:K40) -> 100 | L41: =SUM(L27:L40) -> 100 | ... R41: =SUM(R27:R40) -> 100
E42: =IF(E41=100,"", "Err:Must be 100") | F42: =IF(F41=100,"", "Err:Must be 100") | G42: =IF(G41=100,"", "Err:Must be 100") | H42: =IF(H41=100,"", "Err:Must be 100") | I42: =IF(I41=100,"", "Err:Must be 100") | J42: =IF(J41=100,"", "Err:Must be 100") | K42: =IF(K41=100,"", "Err:Must be 100") | L42: =IF(L41=100,"", "Err:Must be 100") | ... R42: =IF(R41=100,"", "Err:Must be 100")
A43: III. | B43: Accounts Charged via on-line Deployment Funding: | U43: Final Effort Distribution
D44: Monthly rate applied to NIH | E44: =E19/22*11 -> #VALUE! | F44: =$E19 | G44: =$E19 | H44: =$E19 | I44: =$N19 | J44: =$N19 | K44: =$N19 | L44: =$N19 | M44: =$N19 | N44: =$N$19/22*11 -> #VALUE! | U44: 9/16 - 11/30 | V44: 12/1 - 2/28 | W44: 3/1 - 6/15
D45: Monthly rate Not applied to NIH | E45: =$E$17/22*11 -> 0 | F45: =$E$17 -> 0 | G45: =$E$17 -> 0 | H45: =$E$17 -> 0 | I45: =$N$17 -> 0 | J45: =$N$17 -> 0 | K45: =$N$17 -> 0 | L45: =$N$17 -> 0 | M45: =$N$17 -> 0 | N45: =$N$17/22*11 -> 0 | R45: (9/16 - 6/15) | T45: Chartstring | U45: 1Q | V45: 2Q | W45: 3Q
A46: Sponsored : | D46: Over the cap cost | E46: =IF(E45>E44,E45-E44,0) -> #VALUE! | F46: =IF(F45>F44,F45-F44,0) -> 0 | G46: =IF(G45>G44,G45-G44,0) -> 0 | H46: =IF(H45>H44,H45-H44,0) -> 0 | I46: =IF(I45>I44,I45-I44,0) -> 0 | J46: =IF(J45>J44,J45-J44,0) -> 0 | K46: =IF(K45>K44,K45-K44,0) -> 0 | L46: =IF(L45>L44,L45-L44,0) -> 0 | ... N46: =IF(N45>N44,N45-N44,0) -> #VALUE!
B47: Sponsored Acct 1: | D47: =D27 -> 0 | E47: =IF(AND($C27="Yes",$H$15="YES"),E$44*E27/100,IF(AND($C$27="No",$H$15="YES"),E$45*E27/100,E$45*E27/100)) -> 0 | F47: =IF(AND($C27="Yes",$H$15="YES"),F$44*F27/100,IF(AND($C$27="No",$H$15="YES"),F$45*F27/100,F$45*F27/100)) -> 0 | G47: =IF(AND($C27="Yes",$H$15="YES"),G$44*G27/100,IF(AND($C$27="No",$H$15="YES"),G$45*G27/100,G$45*G27/100)) -> 0 | H47: =IF(AND($C27="Yes",$H$15="YES"),H$44*H27/100,IF(AND($C$27="No",$H$15="YES"),H$45*H27/100,H$45*H27/100)) -> 0 | I47: =IF(AND($C27="Yes",$H$15="YES"),I$44*I27/100,IF(AND($C$27="No",$H$15="YES"),I$45*I27/100,I$45*I27/100)) -> 0 | J47: =IF(AND($C27="Yes",$Q$15="YES"),J$44*J27/100,IF(AND($C$27="No",$Q$15="YES"),J$45*J27/100,J$45*J27/100)) -> 0 | K47: =IF(AND($C27="Yes",$Q$15="YES"),K$44*K27/100,IF(AND($C$27="No",$Q$15="YES"),K$45*K27/100,K$45*K27/100)) -> 0 | L47: =IF(AND($C27="Yes",$Q$15="YES"),L$44*L27/100,IF(AND($C$27="No",$Q$15="YES"),L$45*L27/100,L$45*L27/100)) -> 0 | M47: =IF(AND($C27="Yes",$Q$15="YES"),M$44*M27/100,IF(AND($C$27="No",$Q$15="YES"),M$45*M27/100,M$45*M27/100)) -> 0 | N47: =IF(AND($C27="Yes",$H$15="YES"),N$44*N27/100,IF(AND($C$27="No",$H$15="YES"),N$45*N27/100,N$45*N27/100)) -> 0 | R47: =SUM(E47:N47) -> 0 | T47: =D47 -> 0 | U47: =IF($E$16=0,"",(E47+F47+G47)/($E$17*2.5)*$E$17/$E$16) | V47: =IF($E$16=0,"",(H47+I47+J47)/($E$17*3)*$E$17/$E$16) | W47: =IF($E$16=0,"",(K47+L47+M47+N47)/($E$17*3.5)*$E$17/$E$16)
B48: Sponsored Acct 2: | D48: =D28 -> 0 | E48: =IF(AND($C28="Yes",$H$15="YES"),E$44*E28/100,IF(AND($C$27="No",$H$15="YES"),E$45*E28/100,E$45*E28/100)) -> 0 | F48: =IF(AND($C28="Yes",$H$15="YES"),F$44*F28/100,IF(AND($C$27="No",$H$15="YES"),F$45*F28/100,F$45*F28/100)) -> 0 | G48: =IF(AND($C28="Yes",$H$15="YES"),G$44*G28/100,IF(AND($C$27="No",$H$15="YES"),G$45*G28/100,G$45*G28/100)) -> 0 | H48: =IF(AND($C28="Yes",$H$15="YES"),H$44*H28/100,IF(AND($C$27="No",$H$15="YES"),H$45*H28/100,H$45*H28/100)) -> 0 | I48: =IF(AND($C28="Yes",$H$15="YES"),I$44*I28/100,IF(AND($C$27="No",$H$15="YES"),I$45*I28/100,I$45*I28/100)) -> 0 | J48: =IF(AND($C28="Yes",$Q$15="YES"),J$44*J28/100,IF(AND($C$27="No",$Q$15="YES"),J$45*J28/100,J$45*J28/100)) -> 0 | K48: =IF(AND($C28="Yes",$Q$15="YES"),K$44*K28/100,IF(AND($C$27="No",$Q$15="YES"),K$45*K28/100,K$45*K28/100)) -> 0 | L48: =IF(AND($C28="Yes",$Q$15="YES"),L$44*L28/100,IF(AND($C$27="No",$Q$15="YES"),L$45*L28/100,L$45*L28/100)) -> 0 | M48: =IF(AND($C28="Yes",$Q$15="YES"),M$44*M28/100,IF(AND($C$27="No",$Q$15="YES"),M$45*M28/100,M$45*M28/100)) -> 0 | N48: =IF(AND($C28="Yes",$H$15="YES"),N$44*N28/100,IF(AND($C$27="No",$H$15="YES"),N$45*N28/100,N$45*N28/100)) -> 0 | R48: =SUM(E48:N48) -> 0 | T48: =D48 -> 0 | U48: =IF($E$16=0,"",(E48+F48+G48)/($E$17*2.5)*$E$17/$E$16) | V48: =IF($E$16=0,"",(H48+I48+J48)/($E$17*3)*$E$17/$E$16) | W48: =IF($E$16=0,"",(K48+L48+M48+N48)/($E$17*3.5)*$E$17/$E$16)
B49: Sponsored Acct 3: | D49: =D29 -> 0 | E49: =IF(AND($C29="Yes",$H$15="YES"),E$44*E29/100,IF(AND($C$27="No",$H$15="YES"),E$45*E29/100,E$45*E29/100)) -> 0 | F49: =IF(AND($C29="Yes",$H$15="YES"),F$44*F29/100,IF(AND($C$27="No",$H$15="YES"),F$45*F29/100,F$45*F29/100)) -> 0 | G49: =IF(AND($C29="Yes",$H$15="YES"),G$44*G29/100,IF(AND($C$27="No",$H$15="YES"),G$45*G29/100,G$45*G29/100)) -> 0 | H49: =IF(AND($C29="Yes",$H$15="YES"),H$44*H29/100,IF(AND($C$27="No",$H$15="YES"),H$45*H29/100,H$45*H29/100)) -> 0 | I49: =IF(AND($C29="Yes",$H$15="YES"),I$44*I29/100,IF(AND($C$27="No",$H$15="YES"),I$45*I29/100,I$45*I29/100)) -> 0 | J49: =IF(AND($C29="Yes",$Q$15="YES"),J$44*J29/100,IF(AND($C$27="No",$Q$15="YES"),J$45*J29/100,J$45*J29/100)) -> 0 | K49: =IF(AND($C29="Yes",$Q$15="YES"),K$44*K29/100,IF(AND($C$27="No",$Q$15="YES"),K$45*K29/100,K$45*K29/100)) -> 0 | L49: =IF(AND($C29="Yes",$Q$15="YES"),L$44*L29/100,IF(AND($C$27="No",$Q$15="YES"),L$45*L29/100,L$45*L29/100)) -> 0 | M49: =IF(AND($C29="Yes",$Q$15="YES"),M$44*M29/100,IF(AND($C$27="No",$Q$15="YES"),M$45*M29/100,M$45*M29/100)) -> 0 | N49: =IF(AND($C29="Yes",$H$15="YES"),N$44*N29/100,IF(AND($C$27="No",$H$15="YES"),N$45*N29/100,N$45*N29/100)) -> 0 | R49: =SUM(E49:N49) -> 0 | T49: =D49 -> 0 | U49: =IF($E$16=0,"",(E49+F49+G49)/($E$17*2.5)*$E$17/$E$16) | V49: =IF($E$16=0,"",(H49+I49+J49)/($E$17*3)*$E$17/$E$16) | W49: =IF($E$16=0,"",(K49+L49+M49+N49)/($E$17*3.5)*$E$17/$E$16)
B50: Sponsored Acct 4: | D50: =D30 -> 0 | E50: =IF(AND($C30="Yes",$H$15="YES"),E$44*E30/100,IF(AND($C$27="No",$H$15="YES"),E$45*E30/100,E$45*E30/100)) -> 0 | F50: =IF(AND($C30="Yes",$H$15="YES"),F$44*F30/100,IF(AND($C$27="No",$H$15="YES"),F$45*F30/100,F$45*F30/100)) -> 0 | G50: =IF(AND($C30="Yes",$H$15="YES"),G$44*G30/100,IF(AND($C$27="No",$H$15="YES"),G$45*G30/100,G$45*G30/100)) -> 0 | H50: =IF(AND($C30="Yes",$H$15="YES"),H$44*H30/100,IF(AND($C$27="No",$H$15="YES"),H$45*H30/100,H$45*H30/100)) -> 0 | I50: =IF(AND($C30="Yes",$H$15="YES"),I$44*I30/100,IF(AND($C$27="No",$H$15="YES"),I$45*I30/100,I$45*I30/100)) -> 0 | J50: =IF(AND($C30="Yes",$Q$15="YES"),J$44*J30/100,IF(AND($C$27="No",$Q$15="YES"),J$45*J30/100,J$45*J30/100)) -> 0 | K50: =IF(AND($C30="Yes",$Q$15="YES"),K$44*K30/100,IF(AND($C$27="No",$Q$15="YES"),K$45*K30/100,K$45*K30/100)) -> 0 | L50: =IF(AND($C30="Yes",$Q$15="YES"),L$44*L30/100,IF(AND($C$27="No",$Q$15="YES"),L$45*L30/100,L$45*L30/100)) -> 0 | M50: =IF(AND($C30="Yes",$Q$15="YES"),M$44*M30/100,IF(AND($C$27="No",$Q$15="YES"),M$45*M30/100,M$45*M30/100)) -> 0 | N50: =IF(AND($C30="Yes",$H$15="YES"),N$44*N30/100,IF(AND($C$27="No",$H$15="YES"),N$45*N30/100,N$45*N30/100)) -> 0 | R50: =SUM(E50:N50) -> 0 | T50: =D50 -> 0 | U50: =IF($E$16=0,"",(E50+F50+G50)/($E$17*2.5)*$E$17/$E$16) | V50: =IF($E$16=0,"",(H50+I50+J50)/($E$17*3)*$E$17/$E$16) | W50: =IF($E$16=0,"",(K50+L50+M50+N50)/($E$17*3.5)*$E$17/$E$16)
B51: Sponsored Acct 5: | D51: =D31 -> 0 | E51: =IF(AND($C31="Yes",$H$15="YES"),E$44*E31/100,IF(AND($C$27="No",$H$15="YES"),E$45*E31/100,E$45*E31/100)) -> 0 | F51: =IF(AND($C31="Yes",$H$15="YES"),F$44*F31/100,IF(AND($C$27="No",$H$15="YES"),F$45*F31/100,F$45*F31/100)) -> 0 | G51: =IF(AND($C31="Yes",$H$15="YES"),G$44*G31/100,IF(AND($C$27="No",$H$15="YES"),G$45*G31/100,G$45*G31/100)) -> 0 | H51: =IF(AND($C31="Yes",$H$15="YES"),H$44*H31/100,IF(AND($C$27="No",$H$15="YES"),H$45*H31/100,H$45*H31/100)) -> 0 | I51: =IF(AND($C31="Yes",$H$15="YES"),I$44*I31/100,IF(AND($C$27="No",$H$15="YES"),I$45*I31/100,I$45*I31/100)) -> 0 | J51: =IF(AND($C31="Yes",$Q$15="YES"),J$44*J31/100,IF(AND($C$27="No",$Q$15="YES"),J$45*J31/100,J$45*J31/100)) -> 0 | K51: =IF(AND($C31="Yes",$Q$15="YES"),K$44*K31/100,IF(AND($C$27="No",$Q$15="YES"),K$45*K31/100,K$45*K31/100)) -> 0 | L51: =IF(AND($C31="Yes",$Q$15="YES"),L$44*L31/100,IF(AND($C$27="No",$Q$15="YES"),L$45*L31/100,L$45*L31/100)) -> 0 | M51: =IF(AND($C31="Yes",$Q$15="YES"),M$44*M31/100,IF(AND($C$27="No",$Q$15="YES"),M$45*M31/100,M$45*M31/100)) -> 0 | N51: =IF(AND($C31="Yes",$H$15="YES"),N$44*N31/100,IF(AND($C$27="No",$H$15="YES"),N$45*N31/100,N$45*N31/100)) -> 0 | R51: =SUM(E51:N51) -> 0 | T51: =D51 -> 0 | U51: =IF($E$16=0,"",(E51+F51+G51)/($E$17*2.5)*$E$17/$E$16) | V51: =IF($E$16=0,"",(H51+I51+J51)/($E$17*3)*$E$17/$E$16) | W51: =IF($E$16=0,"",(K51+L51+M51+N51)/($E$17*3.5)*$E$17/$E$16)
B52: Sponsored Acct 6: | D52: =D32 -> 0 | E52: =IF(AND($C32="Yes",$H$15="YES"),E$44*E32/100,IF(AND($C$27="No",$H$15="YES"),E$45*E32/100,E$45*E32/100)) -> 0 | F52: =IF(AND($C32="Yes",$H$15="YES"),F$44*F32/100,IF(AND($C$27="No",$H$15="YES"),F$45*F32/100,F$45*F32/100)) -> 0 | G52: =IF(AND($C32="Yes",$H$15="YES"),G$44*G32/100,IF(AND($C$27="No",$H$15="YES"),G$45*G32/100,G$45*G32/100)) -> 0 | H52: =IF(AND($C32="Yes",$H$15="YES"),H$44*H32/100,IF(AND($C$27="No",$H$15="YES"),H$45*H32/100,H$45*H32/100)) -> 0 | I52: =IF(AND($C32="Yes",$H$15="YES"),I$44*I32/100,IF(AND($C$27="No",$H$15="YES"),I$45*I32/100,I$45*I32/100)) -> 0 | J52: =IF(AND($C32="Yes",$Q$15="YES"),J$44*J32/100,IF(AND($C$27="No",$Q$15="YES"),J$45*J32/100,J$45*J32/100)) -> 0 | K52: =IF(AND($C32="Yes",$Q$15="YES"),K$44*K32/100,IF(AND($C$27="No",$Q$15="YES"),K$45*K32/100,K$45*K32/100)) -> 0 | L52: =IF(AND($C32="Yes",$Q$15="YES"),L$44*L32/100,IF(AND($C$27="No",$Q$15="YES"),L$45*L32/100,L$45*L32/100)) -> 0 | M52: =IF(AND($C32="Yes",$Q$15="YES"),M$44*M32/100,IF(AND($C$27="No",$Q$15="YES"),M$45*M32/100,M$45*M32/100)) -> 0 | N52: =IF(AND($C32="Yes",$H$15="YES"),N$44*N32/100,IF(AND($C$27="No",$H$15="YES"),N$45*N32/100,N$45*N32/100)) -> 0 | R52: =SUM(E52:N52) -> 0 | T52: =D52 -> 0 | U52: =IF($E$16=0,"",(E52+F52+G52)/($E$17*2.5)*$E$17/$E$16) | V52: =IF($E$16=0,"",(H52+I52+J52)/($E$17*3)*$E$17/$E$16) | W52: =IF($E$16=0,"",(K52+L52+M52+N52)/($E$17*3.5)*$E$17/$E$16)
...

Sheet Appt 2
A1: DIRECT CHARGING TEMPLATE FOR 9-MONTH EVANSTON FACULTY
A2: *Note: this sheet should only be used for faculty with commitments no more than 75%. If the faculty member's commitment is more than 75%, SDA should be used instead.
A3: I. Enter data in the fields highlighted in Yellow; all other fields are calculated by the worksheet.
A5: I. | B5: Salary& Appointment | D5: Faculty Name: | J5: 9-Month Salary**
B6: Profile: | D6: Employee ID: | I6: Appt 1 (Faculty): | K6: Faculty Appointment
D7: myHR Position #: | I7: Appt 2: | K7: Excluding the 3 summer months if 12 mo appt.
D8: Dept: | I8: Appt 3: | K8: Excluding the 3 summer months if 12 mo appt.
B10: Appointment #2 | D10: # of Months Contract Employment Period | E10: 9
D11: Executive Level I Cap | K11: Note: Cap updated effective January
D12: Academic Base Salary (J6+J7+J8) | E12: =J6+J7+J8 -> 0 | K12: Academic Base Salary (J6+J7+J8) | N12: =J6+J7+J8 -> 0
D13: NIH Salary Cap (12 months): | E13: 228000 | K13: NIH Salary Cap (12 months): | N13: 228000
D14: NIH Salary Cap (9 months): | E14: =E13/12*E10 -> 171000 | G14: *NIH Cap Monthly Rate: | H14: =E13/12 -> 19000 | K14: NIH Salary Cap (9 months): | N14: =N13/12*E10 -> 171000 | P14: *NIH Cap Monthly Rate: | Q14: =N13/12 -> 19000
D15: Calculations: | G15: Salary Over the Cap: | H15: =IF(E12>E14, "YES","NO") -> NO | K15: Calculations: | P15: Salary Over the Cap: | Q15: =IF(N12>N14, "YES","NO") -> NO
D16: Monthly salary (earned rate) | E16: =E12/E10 -> 0 | K16: Monthly salary (earned rate) | N16: =N12/E10 -> 0
D17: Monthly Salary Based on Appointment 2 only: | E17: =J7/E10 -> 0 | K17: Monthly Salary Based on Appointment 2 only: | N17: =J7/E10 -> 0
D18: Monthly "Earned" amounts applied to NIH: | E18: =IF(E14>E12,E17,H14) -> 0 | K18: Monthly "Earned" amounts applied to NIH: | N18: =IF(N14>N12,N17,Q14) -> 0
D19: Appointment 2 NIH cap portion | E19: =IF(E16=0,"",(E17/E16)*E18) | K19: Appointment 2 NIH cap portion | N19: =IF(N16=0,"",(N17/N16)*N18)
D20: Over the Cap Cost per Month | E20: =IF(E17>E18, E17-E18,0) -> 0 | K20: Over the Cap Cost per Month | N20: =IF(N17>N18, N17-N18,0) -> 0
D21: Monthly Pay Rate (12 months) Appt. 2 only | E21: =J7/12 -> 0 | K21: Monthly Pay Rate (12 months) Appt. 2 only | N21: =J7/12 -> 0
A23: II. | B23: Effort Distribution
B24: Percent Effort and Accounts Charged by Month: | E24: Sept 16 - 30 | F24: October | G24: November | H24: December | I24: January | J24: February | K24: March | L24: April | M24: May | N24: June 1 - 15 | O24: June 16-30 | P24: July | Q24: August | R24: September 1-15
B25: Sponsored : | E25: 2026 | F25: 2026 | G25: 2026 | H25: 2026 | I25: 2027 | J25: 2027 | K25: 2027 | L25: 2027 | M25: 2027 | N25: 2027 | O25: 2027 | P25: 2027 | Q25: 2027 | R25: 2027
C26: NIH? | D26: Chartstring
C27: No
C28: No
A37: Operating budget Eff %:
B38: Faculty Salary Acct: | E38: =100-E27-E28-E29-E30-E31-E32-E33-E34-E35-E36 -> 100 | F38: =100-F27-F28-F29-F30-F31-F32-F33-F34-F35-F36 -> 100 | G38: =100-G27-G28-G29-G30-G31-G32-G33-G34-G35-G36 -> 100 | H38: =100-H27-H28-H29-H30-H31-H32-H33-H34-H35-H36 -> 100 | I38: =100-I27-I28-I29-I30-I31-I32-I33-I34-I35-I36 -> 100 | J38: =100-J27-J28-J29-J30-J31-J32-J33-J34-J35-J36 -> 100 | K38: =100-K27-K28-K29-K30-K31-K32-K33-K34-K35-K36 -> 100 | L38: =100-L27-L28-L29-L30-L31-L32-L33-L34-L35-L36 -> 100 | ... N38: =100-N27-N28-N29-N30-N31-N32-N33-N34-N35-N36 -> 100 | O38: 100 | P38: 100 | Q38: 100 | R38: 100 | S38: 85
B39: Operating Acct 2:
B40: Operating Acct 3:
D41: Total Monthly Effort (self-check: Must = 100%) | E41: =SUM(E27:E40) -> 100 | F41: =SUM(F27:F40) -> 100 | G41: =SUM(G27:G40) -> 100 | H41: =SUM(H27:H40) -> 100 | I41: =SUM(I27:I40) -> 100 | J41: =SUM(J27:J40) -> 100 | K41: =SUM(K27:K40) -> 100 | L41: =SUM(L27:L40) -> 100 | ... R41: =SUM(R27:R40) -> 100
E42: =IF(E41=100,"", "Err:Must be 100") | F42: =IF(F41=100,"", "Err:Must be 100") | G42: =IF(G41=100,"", "Err:Must be 100") | H42: =IF(H41=100,"", "Err:Must be 100") | I42: =IF(I41=100,"", "Err:Must be 100") | J42: =IF(J41=100,"", "Err:Must be 100") | K42: =IF(K41=100,"", "Err:Must be 100") | L42: =IF(L41=100,"", "Err:Must be 100") | ... R42: =IF(R41=100,"", "Err:Must be 100")
A43: III. | B43: Accounts Charged via on-line Deployment Funding: | U43: Final Effort Distribution
D44: Monthly rate applied to NIH | E44: =E19/22*11 -> #VALUE! | F44: =$E19 | G44: =$E19 | H44: =$E19 | I44: =$E19 | J44: =$N19 | K44: =$N19 | L44: =$N19 | M44: =$N19 | N44: =$N$19/22*11 -> #VALUE! | U44: 9/16 - 11/30 | V44: 12/1 - 2/28 | W44: 3/1 - 6/15
D45: Monthly rate Not applied to NIH | E45: =$E$17/22*11 -> 0 | F45: =$E$17 -> 0 | G45: =$E$17 -> 0 | H45: =$E$17 -> 0 | I45: =$N$17 -> 0 | J45: =$N$17 -> 0 | K45: =$N$17 -> 0 | L45: =$N$17 -> 0 | M45: =$N$17 -> 0 | N45: =$N$17/22*11 -> 0 | R45: (9/16 - 6/15) | T45: Chartstring | U45: 1Q | V45: 2Q | W45: 3Q
A46: Sponsored : | D46: Over the cap cost | E46: =IF(E45>E44,E45-E44,0) -> #VALUE! | F46: =IF(F45>F44,F45-F44,0) -> 0 | G46: =IF(G45>G44,G45-G44,0) -> 0 | H46: =IF(H45>H44,H45-H44,0) -> 0 | I46: =IF(I45>I44,I45-I44,0) -> 0 | J46: =IF(J45>J44,J45-J44,0) -> 0 | K46: =IF(K45>K44,K45-K44,0) -> 0 | L46: =IF(L45>L44,L45-L44,0) -> 0 | ... N46: =IF(N45>N44,N45-N44,0) -> #VALUE!
B47: Sponsored Acct 1: | D47: =D27 -> 0 | E47: =IF(AND($C27="Yes",$H$15="YES"),E$44*E27/100,IF(AND($C$27="No",$H$15="YES"),E$45*E27/100,E$45*E27/100)) -> 0 | F47: =IF(AND($C27="Yes",$H$15="YES"),F$44*F27/100,IF(AND($C$27="No",$H$15="YES"),F$45*F27/100,F$45*F27/100)) -> 0 | G47: =IF(AND($C27="Yes",$H$15="YES"),G$44*G27/100,IF(AND($C$27="No",$H$15="YES"),G$45*G27/100,G$45*G27/100)) -> 0 | H47: =IF(AND($C27="Yes",$H$15="YES"),H$44*H27/100,IF(AND($C$27="No",$H$15="YES"),H$45*H27/100,H$45*H27/100)) -> 0 | I47: =IF(AND($C27="Yes",$H$15="YES"),I$44*I27/100,IF(AND($C$27="No",$H$15="YES"),I$45*I27/100,I$45*I27/100)) -> 0 | J47: =IF(AND($C27="Yes",$Q$15="YES"),J$44*J27/100,IF(AND($C$27="No",$Q$15="YES"),J$45*J27/100,J$45*J27/100)) -> 0 | K47: =IF(AND($C27="Yes",$Q$15="YES"),K$44*K27/100,IF(AND($C$27="No",$Q$15="YES"),K$45*K27/100,K$45*K27/100)) -> 0 | L47: =IF(AND($C27="Yes",$Q$15="YES"),L$44*L27/100,IF(AND($C$27="No",$Q$15="YES"),L$45*L27/100,L$45*L27/100)) -> 0 | M47: =IF(AND($C27="Yes",$Q$15="YES"),M$44*M27/100,IF(AND($C$27="No",$Q$15="YES"),M$45*M27/100,M$45*M27/100)) -> 0 | N47: =IF(AND($C27="Yes",$Q$15="YES"),N$44*N27/100,IF(AND($C$27="No",$Q$15="YES"),N$45*N27/100,N$45*N27/100)) -> 0 | R47: =SUM(E47:N47) -> 0 | T47: =D47 -> 0 | U47: =IF($E$16=0,"",(E47+F47+G47)/($E$17*2.5)*$E$17/$E$16) | V47: =IF($E$16=0,"",(H47+I47+J47)/($E$17*3)*$E$17/$E$16) | W47: =IF($E$16=0,"",(K47+L47+M47+N47)/($E$17*3.5)*$E$17/$E$16)
B48: Sponsored Acct 2: | D48: =D28 -> 0 | E48: =IF(AND($C28="Yes",$H$15="YES"),E$44*E28/100,IF(AND($C$27="No",$H$15="YES"),E$45*E28/100,E$45*E28/100)) -> 0 | F48: =IF(AND($C28="Yes",$H$15="YES"),F$44*F28/100,IF(AND($C$27="No",$H$15="YES"),F$45*F28/100,F$45*F28/100)) -> 0 | G48: =IF(AND($C28="Yes",$H$15="YES"),G$44*G28/100,IF(AND($C$27="No",$H$15="YES"),G$45*G28/100,G$45*G28/100)) -> 0 | H48: =IF(AND($C28="Yes",$H$15="YES"),H$44*H28/100,IF(AND($C$27="No",$H$15="YES"),H$45*H28/100,H$45*H28/100)) -> 0 | I48: =IF(AND($C28="Yes",$H$15="YES"),I$44*I28/100,IF(AND($C$27="No",$H$15="YES"),I$45*I28/100,I$45*I28/100)) -> 0 | J48: =IF(AND($C28="Yes",$Q$15="YES"),J$44*J28/100,IF(AND($C$27="No",$Q$15="YES"),J$45*J28/100,J$45*J28/100)) -> 0 | K48: =IF(AND($C28="Yes",$Q$15="YES"),K$44*K28/100,IF(AND($C$27="No",$Q$15="YES"),K$45*K28/100,K$45*K28/100)) -> 0 | L48: =IF(AND($C28="Yes",$Q$15="YES"),L$44*L28/100,IF(AND($C$27="No",$Q$15="YES"),L$45*L28/100,L$45*L28/100)) -> 0 | M48: =IF(AND($C28="Yes",$Q$15="YES"),M$44*M28/100,IF(AND($C$27="No",$Q$15="YES"),M$45*M28/100,M$45*M28/100)) -> 0 | N48: =IF(AND($C28="Yes",$Q$15="YES"),N$44*N28/100,IF(AND($C$27="No",$Q$15="YES"),N$45*N28/100,N$45*N28/100)) -> 0 | R48: =SUM(E48:N48) -> 0 | T48: =D48 -> 0 | U48: =IF($E$16=0,"",(E48+F48+G48)/($E$17*2.5)*$E$17/$E$16) | V48: =IF($E$16=0,"",(H48+I48+J48)/($E$17*3)*$E$17/$E$16) | W48: =IF($E$16=0,"",(K48+L48+M48+N48)/($E$17*3.5)*$E$17/$E$16)
B49: Sponsored Acct 3: | D49: =D29 -> 0 | E49: =IF(AND($C29="Yes",$H$15="YES"),E$44*E29/100,IF(AND($C$27="No",$H$15="YES"),E$45*E29/100,E$45*E29/100)) -> 0 | F49: =IF(AND($C29="Yes",$H$15="YES"),F$44*F29/100,IF(AND($C$27="No",$H$15="YES"),F$45*F29/100,F$45*F29/100)) -> 0 | G49: =IF(AND($C29="Yes",$H$15="YES"),G$44*G29/100,IF(AND($C$27="No",$H$15="YES"),G$45*G29/100,G$45*G29/100)) -> 0 | H49: =IF(AND($C29="Yes",$H$15="YES"),H$44*H29/100,IF(AND($C$27="No",$H$15="YES"),H$45*H29/100,H$45*H29/100)) -> 0 | I49: =IF(AND($C29="Yes",$H$15="YES"),I$44*I29/100,IF(AND($C$27="No",$H$15="YES"),I$45*I29/100,I$45*I29/100)) -> 0 | J49: =IF(AND($C29="Yes",$Q$15="YES"),J$44*J29/100,IF(AND($C$27="No",$Q$15="YES"),J$45*J29/100,J$45*J29/100)) -> 0 | K49: =IF(AND($C29="Yes",$Q$15="YES"),K$44*K29/100,IF(AND($C$27="No",$Q$15="YES"),K$45*K29/100,K$45*K29/100)) -> 0 | L49: =IF(AND($C29="Yes",$Q$15="YES"),L$44*L29/100,IF(AND($C$27="No",$Q$15="YES"),L$45*L29/100,L$45*L29/100)) -> 0 | M49: =IF(AND($C29="Yes",$Q$15="YES"),M$44*M29/100,IF(AND($C$27="No",$Q$15="YES"),M$45*M29/100,M$45*M29/100)) -> 0 | N49: =IF(AND($C29="Yes",$Q$15="YES"),N$44*N29/100,IF(AND($C$27="No",$Q$15="YES"),N$45*N29/100,N$45*N29/100)) -> 0 | R49: =SUM(E49:N49) -> 0 | T49: =D49 -> 0 | U49: =IF($E$16=0,"",(E49+F49+G49)/($E$17*2.5)*$E$17/$E$16) | V49: =IF($E$16=0,"",(H49+I49+J49)/($E$17*3)*$E$17/$E$16) | W49: =IF($E$16=0,"",(K49+L49+M49+N49)/($E$17*3.5)*$E$17/$E$16)
B50: Sponsored Acct 4: | D50: =D30 -> 0 | E50: =IF(AND($C30="Yes",$H$15="YES"),E$44*E30/100,IF(AND($C$27="No",$H$15="YES"),E$45*E30/100,E$45*E30/100)) -> 0 | F50: =IF(AND($C30="Yes",$H$15="YES"),F$44*F30/100,IF(AND($C$27="No",$H$15="YES"),F$45*F30/100,F$45*F30/100)) -> 0 | G50: =IF(AND($C30="Yes",$H$15="YES"),G$44*G30/100,IF(AND($C$27="No",$H$15="YES"),G$45*G30/100,G$45*G30/100)) -> 0 | H50: =IF(AND($C30="Yes",$H$15="YES"),H$44*H30/100,IF(AND($C$27="No",$H$15="YES"),H$45*H30/100,H$45*H30/100)) -> 0 | I50: =IF(AND($C30="Yes",$H$15="YES"),I$44*I30/100,IF(AND($C$27="No",$H$15="YES"),I$45*I30/100,I$45*I30/100)) -> 0 | J50: =IF(AND($C30="Yes",$Q$15="YES"),J$44*J30/100,IF(AND($C$27="No",$Q$15="YES"),J$45*J30/100,J$45*J30/100)) -> 0 | K50: =IF(AND($C30="Yes",$Q$15="YES"),K$44*K30/100,IF(AND($C$27="No",$Q$15="YES"),K$45*K30/100,K$45*K30/100)) -> 0 | L50: =IF(AND($C30="Yes",$Q$15="YES"),L$44*L30/100,IF(AND($C$27="No",$Q$15="YES"),L$45*L30/100,L$45*L30/100)) -> 0 | M50: =IF(AND($C30="Yes",$Q$15="YES"),M$44*M30/100,IF(AND($C$27="No",$Q$15="YES"),M$45*M30/100,M$45*M30/100)) -> 0 | N50: =IF(AND($C30="Yes",$Q$15="YES"),N$44*N30/100,IF(AND($C$27="No",$Q$15="YES"),N$45*N30/100,N$45*N30/100)) -> 0 | R50: =SUM(E50:N50) -> 0 | T50: =D50 -> 0 | U50: =IF($E$16=0,"",(E50+F50+G50)/($E$17*2.5)*$E$17/$E$16) | V50: =IF($E$16=0,"",(H50+I50+J50)/($E$17*3)*$E$17/$E$16) | W50: =IF($E$16=0,"",(K50+L50+M50+N50)/($E$17*3.5)*$E$17/$E$16)
B51: Sponsored Acct 5: | D51: =D31 -> 0 | E51: =IF(AND($C31="Yes",$H$15="YES"),E$44*E31/100,IF(AND($C$27="No",$H$15="YES"),E$45*E31/100,E$45*E31/100)) -> 0 | F51: =IF(AND($C31="Yes",$H$15="YES"),F$44*F31/100,IF(AND($C$27="No",$H$15="YES"),F$45*F31/100,F$45*F31/100)) -> 0 | G51: =IF(AND($C31="Yes",$H$15="YES"),G$44*G31/100,IF(AND($C$27="No",$H$15="YES"),G$45*G31/100,G$45*G31/100)) -> 0 | H51: =IF(AND($C31="Yes",$H$15="YES"),H$44*H31/100,IF(AND($C$27="No",$H$15="YES"),H$45*H31/100,H$45*H31/100)) -> 0 | I51: =IF(AND($C31="Yes",$H$15="YES"),I$44*I31/100,IF(AND($C$27="No",$H$15="YES"),I$45*I31/100,I$45*I31/100)) -> 0 | J51: =IF(AND($C31="Yes",$Q$15="YES"),J$44*J31/100,IF(AND($C$27="No",$Q$15="YES"),J$45*J31/100,J$45*J31/100)) -> 0 | K51: =IF(AND($C31="Yes",$Q$15="YES"),K$44*K31/100,IF(AND($C$27="No",$Q$15="YES"),K$45*K31/100,K$45*K31/100)) -> 0 | L51: =IF(AND($C31="Yes",$Q$15="YES"),L$44*L31/100,IF(AND($C$27="No",$Q$15="YES"),L$45*L31/100,L$45*L31/100)) -> 0 | M51: =IF(AND($C31="Yes",$Q$15="YES"),M$44*M31/100,IF(AND($C$27="No",$Q$15="YES"),M$45*M31/100,M$45*M31/100)) -> 0 | N51: =IF(AND($C31="Yes",$Q$15="YES"),N$44*N31/100,IF(AND($C$27="No",$Q$15="YES"),N$45*N31/100,N$45*N31/100)) -> 0 | R51: =SUM(E51:N51) -> 0 | T51: =D51 -> 0 | U51: =IF($E$16=0,"",(E51+F51+G51)/($E$17*2.5)*$E$17/$E$16) | V51: =IF($E$16=0,"",(H51+I51+J51)/($E$17*3)*$E$17/$E$16) | W51: =IF($E$16=0,"",(K51+L51+M51+N51)/($E$17*3.5)*$E$17/$E$16)
...

Sheet Combined Effort
A1: ='Appt 1'!E5 -> 0
A2: Effort Distribution - Appt. 1 & Appt. 2 combined
A3: note: data auto=populates from appt. 1 & appt. 2 worksheets
A4: Chartstring | B4: 1Q | C4: 2Q | D4: 3Q
A5: ='Appt 1'!D47 -> 0 | B5: ='Appt 1'!U47 | C5: ='Appt 1'!V47 | D5: ='Appt 1'!W47 | E5: Appointment 1
A6: ='Appt 1'!D48 -> 0 | B6: ='Appt 1'!U48 | C6: ='Appt 1'!V48 | D6: ='Appt 1'!W48
A7: ='Appt 1'!D49 -> 0 | B7: ='Appt 1'!U49 | C7: ='Appt 1'!V49 | D7: ='Appt 1'!W49
A8: ='Appt 1'!D50 -> 0 | B8: ='Appt 1'!U50 | C8: ='Appt 1'!V50 | D8: ='Appt 1'!W50
A9: ='Appt 1'!D51 -> 0 | B9: ='Appt 1'!U51 | C9: ='Appt 1'!V51 | D9: ='Appt 1'!W51
A10: ='Appt 1'!D52 -> 0 | B10: ='Appt 1'!U52 | C10: ='Appt 1'!V52 | D10: ='Appt 1'!W52
A11: ='Appt 1'!D53 -> 0 | B11: ='Appt 1'!U53 | C11: ='Appt 1'!V53 | D11: ='Appt 1'!W53
A12: ='Appt 1'!D54 -> 0 | B12: ='Appt 1'!U54 | C12: ='Appt 1'!V54 | D12: ='Appt 1'!W54
A13: ='Appt 1'!D55 -> 0 | B13: ='Appt 1'!U55 | C13: ='Appt 1'!V55 | D13: ='Appt 1'!W55
A14: ='Appt 1'!D56 -> 0 | B14: ='Appt 1'!U56 | C14: ='Appt 1'!V56 | D14: ='Appt 1'!W56
A15: ='Appt 2'!T59 -> 0 | B15: ='Appt 2'!U47 | C15: ='Appt 2'!V47 | D15: ='Appt 2'!W47 | E15: Appointment 2
A16: ='Appt 2'!T60 -> 0 | B16: ='Appt 2'!U48 | C16: ='Appt 2'!V48 | D16: ='Appt 2'!W48
A17: ='Appt 2'!T61 -> 0 | B17: ='Appt 2'!U49 | C17: ='Appt 2'!V49 | D17: ='Appt 2'!W49
A18: ='Appt 2'!T62 -> 0 | B18: ='Appt 2'!U50 | C18: ='Appt 2'!V50 | D18: ='Appt 2'!W50
A19: ='Appt 2'!T63 -> 0 | B19: ='Appt 2'!U51 | C19: ='Appt 2'!V51 | D19: ='Appt 2'!W51
A20: ='Appt 2'!T64 -> 0 | B20: ='Appt 2'!U52 | C20: ='Appt 2'!V52 | D20: ='Appt 2'!W52
A21: ='Appt 2'!T65 -> 0 | B21: ='Appt 2'!U53 | C21: ='Appt 2'!V53 | D21: ='Appt 2'!W53
A22: ='Appt 2'!T66 -> 0 | B22: ='Appt 2'!U54 | C22: ='Appt 2'!V54 | D22: ='Appt 2'!W54
A23: ='Appt 2'!T67 -> 0 | B23: ='Appt 2'!U55 | C23: ='Appt 2'!V55 | D23: ='Appt 2'!W55
A24: ='Appt 2'!T68 -> 0 | B24: ='Appt 2'!U56 | C24: ='Appt 2'!V56 | D24: ='Appt 2'!W56
A27: ='Appt 1'!D59 -> 0 | B27: ='Appt 1'!U59 | C27: ='Appt 1'!V59 | D27: ='Appt 1'!W59 | E27: Salary cap cost sharing | F27: Add to sponsored acct. above to get total % effort
A28: ='Appt 1'!D60 -> 0 | B28: ='Appt 1'!U60 | C28: ='Appt 1'!V60 | D28: ='Appt 1'!W60
A29: ='Appt 1'!D61 -> 0 | B29: ='Appt 1'!U61 | C29: ='Appt 1'!V61 | D29: ='Appt 1'!W61
A30: ='Appt 1'!D62 -> 0 | B30: ='Appt 1'!U62 | C30: ='Appt 1'!V62 | D30: ='Appt 1'!W62
A31: ='Appt 1'!D63 -> 0 | B31: ='Appt 1'!U63 | C31: ='Appt 1'!V63 | D31: ='Appt 1'!W63
A32: ='Appt 2'!T59 -> 0 | B32: ='Appt 2'!U59 | C32: ='Appt 2'!V59 | D32: ='Appt 2'!W59 | E32: Appointment 2
A33: ='Appt 2'!T60 -> 0 | B33: ='Appt 2'!U60 | C33: ='Appt 2'!V60 | D33: ='Appt 2'!W60
A34: ='Appt 2'!T61 -> 0 | B34: ='Appt 2'!U61 | C34: ='Appt 2'!V61 | D34: ='Appt 2'!W61
A35: ='Appt 2'!T62 -> 0 | B35: ='Appt 2'!U62 | C35: ='Appt 2'!V62 | D35: ='Appt 2'!W62
A36: ='Appt 2'!T63 -> 0 | B36: ='Appt 2'!U63 | C36: ='Appt 2'!V63 | D36: ='Appt 2'!W63
A39: Total Sponsored Effort | B39: =SUM(B5:B36) -> 0 | C39: =SUM(C5:C36) -> 0 | D39: =SUM(D5:D36) -> 0
